BEGIN:VCALENDAR
VERSION:2.0
PRODID:-//Plone.org//NONSGML plone.app.event//EN
X-WR-TIMEZONE:Europe/Vienna
BEGIN:VEVENT
SUMMARY:Stadtbauhof und Altstoffsammelzentrum Feldkirch
DTSTART;TZID=Europe/Vienna;VALUE=DATE-TIME:20260530T133000
DTSTAMP;VALUE=DATE-TIME:20260425T003326Z
UID:5f659f4e3ed8463eb6183993f1c473c2@aaf-live-raw.web.kup.tirol
CATEGORIES:AT26
CREATED;VALUE=DATE-TIME:20260318T143911Z
GEO:47.241981115976465;9.591542097493443
LAST-MODIFIED;VALUE=DATE-TIME:20260327T084700Z
LOCATION;ALTREP="https://aaf-live-plone.web.kup.tirol/vai/lib/adressbuch/s
 tadtbauhof-feldkirch":Stadtbauhof Feldkirch\, Kapfstraße 109\, 6800 Feldk
 irch\, Österreich
URL:https://aaf-live-plone.web.kup.tirol/vai/veranstaltungen/architekturta
 ge/architekturtage-2026/stadtbauhof-und-altstoffsammelzentrum-feldkirch
END:VEVENT
BEGIN:VTIMEZONE
TZID:Europe/Vienna
X-LIC-LOCATION:Europe/Vienna
BEGIN:DAYLIGHT
DTSTART;VALUE=DATE-TIME:20260329T030000
TZNAME:CEST
TZOFFSETFROM:+0100
TZOFFSETTO:+0200
END:DAYLIGHT
END:VTIMEZONE
END:VCALENDAR
