BEGIN:VCALENDAR
VERSION:2.0
PRODID:-//Plone.org//NONSGML plone.app.event//EN
X-WR-TIMEZONE:Europe/Vienna
BEGIN:VEVENT
SUMMARY:Pubquiz: Infrastruktur
DTSTART;TZID=Europe/Vienna;VALUE=DATE-TIME:20260530T190000
DTSTAMP;VALUE=DATE-TIME:20260422T202639Z
UID:acff2293d87e40d296a7de95da9bda81@aaf-live-raw.web.kup.tirol
CATEGORIES:AT26
CREATED;VALUE=DATE-TIME:20260318T144543Z
GEO:47.24914512411478;9.587411590849566
LAST-MODIFIED;VALUE=DATE-TIME:20260319T091323Z
LOCATION;ALTREP="https://aaf-live-plone.web.kup.tirol/vai/lib/adressbuch/e
 hemalige-spinnerei-im-haemmerle-areal":Spinnerei im Hämmerle-Areal\, Häm
 merlestraße 22\, 6800 Feldkirch\, Österreich
URL:https://aaf-live-plone.web.kup.tirol/vai/veranstaltungen/architekturta
 ge/architekturtage-2026/pubquiz-infrastruktur
END:VEVENT
BEGIN:VTIMEZONE
TZID:Europe/Vienna
X-LIC-LOCATION:Europe/Vienna
BEGIN:DAYLIGHT
DTSTART;VALUE=DATE-TIME:20260329T030000
TZNAME:CEST
TZOFFSETFROM:+0100
TZOFFSETTO:+0200
END:DAYLIGHT
END:VTIMEZONE
END:VCALENDAR
