BEGIN:VCALENDAR
VERSION:2.0
PRODID:-//Plone.org//NONSGML plone.app.event//EN
X-WR-TIMEZONE:Europe/Vienna
BEGIN:VEVENT
SUMMARY:Zwischen Croissant und öffentlichem Platz
DTSTART;TZID=Europe/Vienna;VALUE=DATE-TIME:20260530T133000
DTSTAMP;VALUE=DATE-TIME:20260420T133554Z
UID:d7f8224f52a240b3a36f7ea06280f22b@aaf-live-raw.web.kup.tirol
CATEGORIES:AT26
CREATED;VALUE=DATE-TIME:20260318T143256Z
GEO:47.23850196388607;9.59688379749327
LAST-MODIFIED;VALUE=DATE-TIME:20260320T160058Z
LOCATION;ALTREP="https://aaf-live-plone.web.kup.tirol/vai/lib/adressbuch/h
 aus-am-katzenturm":Haus am Katzenturm\, Herrengasse 14\, 6800 Feldkirch\, 
 Österreich
URL:https://aaf-live-plone.web.kup.tirol/vai/veranstaltungen/architekturta
 ge/architekturtage-2026/haus-am-katzenturm
END:VEVENT
BEGIN:VTIMEZONE
TZID:Europe/Vienna
X-LIC-LOCATION:Europe/Vienna
BEGIN:DAYLIGHT
DTSTART;VALUE=DATE-TIME:20260329T030000
TZNAME:CEST
TZOFFSETFROM:+0100
TZOFFSETTO:+0200
END:DAYLIGHT
END:VTIMEZONE
END:VCALENDAR
