BEGIN:VCALENDAR
VERSION:2.0
PRODID:-//Plone.org//NONSGML plone.app.event//EN
X-WR-TIMEZONE:Europe/Vienna
BEGIN:VEVENT
SUMMARY:Baubesprechung #89
DTSTART;TZID=Europe/Vienna;VALUE=DATE-TIME:20260529T170000
DTSTAMP;VALUE=DATE-TIME:20260424T021208Z
UID:49bb8a3f24de4fdf87a4034aefc4aca0@aaf-live-raw.web.kup.tirol
CATEGORIES:AT26
CREATED;VALUE=DATE-TIME:20260226T162055Z
DESCRIPTION:In Wels entsteht mit dem neuen Volksgarten das größte Entsie
 gelungsprojekt Österreichs. Auf über 10 Hektar entwickelt sich entlang d
 er Traun ein Landschaftspark für Erholung und als zentraler Ort der Lande
 sgartenschau 2027. Eine Baustellenführung mit der Baudirektion Wels zeigt
  Planung und Umsetzung des Projekts.
GEO:48.156;14.034
LAST-MODIFIED;VALUE=DATE-TIME:20260423T130210Z
LOCATION;ALTREP="https://aaf-live-plone.web.kup.tirol/afo/lib/adressbuch/s
 tadthalle-wels":Stadthalle Wels\, Pollheimerstraße 1\, 4600 Wels\, Öster
 reich
URL:https://aaf-live-plone.web.kup.tirol/afo/reihen/baubesprechung/bb89
END:VEVENT
BEGIN:VTIMEZONE
TZID:Europe/Vienna
X-LIC-LOCATION:Europe/Vienna
BEGIN:DAYLIGHT
DTSTART;VALUE=DATE-TIME:20260329T030000
TZNAME:CEST
TZOFFSETFROM:+0100
TZOFFSETTO:+0200
END:DAYLIGHT
END:VTIMEZONE
END:VCALENDAR
